BEGIN:VCALENDAR
VERSION:2.0
PRODID:-//Healio Strategic Solutions - ECPv6.15.20//NONSGML v1.0//EN
CALSCALE:GREGORIAN
METHOD:PUBLISH
X-WR-CALNAME:Healio Strategic Solutions
X-ORIGINAL-URL:https://healiostrategicsolutions.com
X-WR-CALDESC:Events for Healio Strategic Solutions
REFRESH-INTERVAL;VALUE=DURATION:PT1H
X-Robots-Tag:noindex
X-PUBLISHED-TTL:PT1H
BEGIN:VTIMEZONE
TZID:UTC
BEGIN:STANDARD
TZOFFSETFROM:+0000
TZOFFSETTO:+0000
TZNAME:UTC
DTSTART:20240101T000000
END:STANDARD
END:VTIMEZONE
BEGIN:VEVENT
DTSTART;VALUE=DATE:20250405
DTEND;VALUE=DATE:20250410
DTSTAMP:20260421T100847
CREATED:20250401T152722Z
LAST-MODIFIED:20250401T152722Z
UID:3114-1743811200-1744243199@healiostrategicsolutions.com
SUMMARY:American Academy of Neurology
DESCRIPTION:Healio Strategic Solutions is attending this meeting! Let’s connect and explore how we can elevate your message to our engaged audience through the Healio platform. Send us your information below to connect with us onsite! \nHeading to the meeting? Let us know!
URL:https://healiostrategicsolutions.com/event/american-academy-of-neurology/
LOCATION:San Diego Convention Center\, 111 W Harbor Dr.\, San Diego\, CA\, 92101\, United States
ATTACH;FMTTYPE=image/jpeg:https://healiostrategicsolutions.com/wp-content/uploads/2023/08/San-diego.jpg
END:VEVENT
BEGIN:VEVENT
DTSTART;VALUE=DATE:20250410
DTEND;VALUE=DATE:20250414
DTSTAMP:20260421T100847
CREATED:20250220T171314Z
LAST-MODIFIED:20250220T171314Z
UID:3085-1744243200-1744588799@healiostrategicsolutions.com
SUMMARY:NKF 2025 Spring Clinical Meetings
DESCRIPTION:Healio Strategic Solutions is attending this meeting! Let’s connect and explore how we can elevate your message to our engaged audience through the Healio platform. Send us your information below to connect with us onsite! \nHeading to the meeting? Let us know!
URL:https://healiostrategicsolutions.com/event/nkf-2025-spring-clinical-meetings/
LOCATION:John B. Hynes Veterans Memorial Convention Center\, 900 Boylston St.\, Boston\, MA\, 02115\, United States
ATTACH;FMTTYPE=image/jpeg:https://healiostrategicsolutions.com/wp-content/uploads/2022/01/boston-3.jpg
END:VEVENT
BEGIN:VEVENT
DTSTART;VALUE=DATE:20250423
DTEND;VALUE=DATE:20250428
DTSTAMP:20260421T100847
CREATED:20250401T153734Z
LAST-MODIFIED:20250401T153735Z
UID:3115-1745366400-1745798399@healiostrategicsolutions.com
SUMMARY:Obesity Medicine Conference
DESCRIPTION:Healio Strategic Solutions is attending this meeting! Let’s connect and explore how we can elevate your message to our engaged audience through the Healio platform. Send us your information below to connect with us onsite! \nHeading to the meeting? Let us know!
URL:https://healiostrategicsolutions.com/event/obesity-medicine-conference/
LOCATION:Gaylord National Resort & Convention Center\, 201 Waterfront St.\, National Harbor\, MD\, 20745\, United States
ATTACH;FMTTYPE=image/jpeg:https://healiostrategicsolutions.com/wp-content/uploads/2022/11/national-harbor.jpg
END:VEVENT
BEGIN:VEVENT
DTSTART;VALUE=DATE:20250424
DTEND;VALUE=DATE:20250425
DTSTAMP:20260421T100847
CREATED:20250220T172457Z
LAST-MODIFIED:20250220T172457Z
UID:3086-1745452800-1745539199@healiostrategicsolutions.com
SUMMARY:SightLine at ASCRS
DESCRIPTION:Healio Strategic Solutions is attending this meeting! Let’s connect and explore how we can elevate your message to our engaged audience through the Healio platform. Send us your information below to connect with us onsite! \nHeading to the meeting? Let us know!
URL:https://healiostrategicsolutions.com/event/sightline-at-ascrs/
LOCATION:Intercontinental Los Angeles Downtown Hotel\, 900 Wilshire Blvd.\, Los Angeles\, CA\, 90017\, United States
ATTACH;FMTTYPE=image/jpeg:https://healiostrategicsolutions.com/wp-content/uploads/2024/12/meetings_featured-LA.jpg
END:VEVENT
BEGIN:VEVENT
DTSTART;VALUE=DATE:20250425
DTEND;VALUE=DATE:20250429
DTSTAMP:20260421T100847
CREATED:20241217T202536Z
LAST-MODIFIED:20241217T202536Z
UID:3058-1745539200-1745884799@healiostrategicsolutions.com
SUMMARY:ASCRS Annual Meeting
DESCRIPTION:Healio Strategic Solutions is attending this meeting! Let’s connect and explore how we can elevate your message to our engaged audience through the Healio platform. Send us your information below to connect with us onsite! \nHeading to the meeting? Let us know!
URL:https://healiostrategicsolutions.com/event/ascrs-annual-meeting-3/
LOCATION:Los Angeles Convention Center\, 1201 S. Figueroa Street\, Los Angeles\, 90015\, United States
ATTACH;FMTTYPE=image/jpeg:https://healiostrategicsolutions.com/wp-content/uploads/2024/12/meetings_featured-LA-1.jpg
END:VEVENT
BEGIN:VEVENT
DTSTART;VALUE=DATE:20250425
DTEND;VALUE=DATE:20250501
DTSTAMP:20260421T100847
CREATED:20250403T141839Z
LAST-MODIFIED:20250403T141839Z
UID:3123-1745539200-1746057599@healiostrategicsolutions.com
SUMMARY:AACR Annual Meeting
DESCRIPTION:Healio Strategic Solutions is attending this meeting! Let’s connect and explore how we can elevate your message to our engaged audience through the Healio platform. Send us your information below to connect with us onsite! \nHeading to the meeting? Let us know!
URL:https://healiostrategicsolutions.com/event/aacr-annual-meeting/
LOCATION:McCormick Place\, 2301 S King Dr.\, Chicago\, IL\, 60616\, United States
ATTACH;FMTTYPE=image/jpeg:https://healiostrategicsolutions.com/wp-content/uploads/2023/03/Chicago.jpg
END:VEVENT
BEGIN:VEVENT
DTSTART;VALUE=DATE:20250430
DTEND;VALUE=DATE:20250502
DTSTAMP:20260421T100847
CREATED:20250422T150224Z
LAST-MODIFIED:20250422T150307Z
UID:3127-1745971200-1746143999@healiostrategicsolutions.com
SUMMARY:PHM HealthFront 2025
DESCRIPTION:Healio Strategic Solutions is attending this meeting! Let’s connect and explore how we can elevate your message to our engaged audience through the Healio platform. Send us your information below to connect with us onsite! \nHeading to the meeting? Let us know!
URL:https://healiostrategicsolutions.com/event/3127/
LOCATION:The Glasshouse\, 660 12th Ave.\, New York\, NY\, 10019\, United States
ATTACH;FMTTYPE=image/jpeg:https://healiostrategicsolutions.com/wp-content/uploads/2022/02/Manhattan_NY.jpeg
END:VEVENT
END:VCALENDAR