BEGIN:VCALENDAR
VERSION:2.0
PRODID:-//Healio Strategic Solutions - ECPv6.15.20//NONSGML v1.0//EN
CALSCALE:GREGORIAN
METHOD:PUBLISH
X-WR-CALNAME:Healio Strategic Solutions
X-ORIGINAL-URL:https://healiostrategicsolutions.com
X-WR-CALDESC:Events for Healio Strategic Solutions
REFRESH-INTERVAL;VALUE=DURATION:PT1H
X-Robots-Tag:noindex
X-PUBLISHED-TTL:PT1H
BEGIN:VTIMEZONE
TZID:UTC
BEGIN:STANDARD
TZOFFSETFROM:+0000
TZOFFSETTO:+0000
TZNAME:UTC
DTSTART:20230101T000000
END:STANDARD
END:VTIMEZONE
BEGIN:VEVENT
DTSTART;VALUE=DATE:20240530
DTEND;VALUE=DATE:20240602
DTSTAMP:20260420T120859
CREATED:20240206T205532Z
LAST-MODIFIED:20240206T205532Z
UID:2780-1717027200-1717286399@healiostrategicsolutions.com
SUMMARY:Kiawah Eye
DESCRIPTION:Healio Strategic Solutions is attending this meeting! Let’s connect and explore how we can elevate your message to our engaged audience through the Healio platform. Send us your information below to connect with us onsite! \nHeading to the meeting? Let us know!
URL:https://healiostrategicsolutions.com/event/kiawah-eye-3/
LOCATION:Kiawah Island Golf Resort\, 1 Sanctuary Beach Drive\, Kiawah Island\, SC\, 29455\, United States
ATTACH;FMTTYPE=image/jpeg:https://healiostrategicsolutions.com/wp-content/uploads/2022/12/Kiawah-Island.jpg
ORGANIZER;CN="Healio%C2%AE LIVE":MAILTO:rsimon@HealioLIVE.com
END:VEVENT
BEGIN:VEVENT
DTSTART;VALUE=DATE:20240531
DTEND;VALUE=DATE:20240605
DTSTAMP:20260420T120859
CREATED:20240206T205743Z
LAST-MODIFIED:20240206T205744Z
UID:2781-1717113600-1717545599@healiostrategicsolutions.com
SUMMARY:ASCO Annual Meeting
DESCRIPTION:Healio Strategic Solutions is attending this meeting! Let’s connect and explore how we can elevate your message to our engaged audience through the Healio platform. Send us your information below to connect with us onsite! \nHeading to the meeting? Let us know!
URL:https://healiostrategicsolutions.com/event/asco-annual-meeting-2/
LOCATION:McCormick Place\, 2301 S King Dr.\, Chicago\, IL\, 60616\, United States
ATTACH;FMTTYPE=image/jpeg:https://healiostrategicsolutions.com/wp-content/uploads/2023/03/Chicago.jpg
END:VEVENT
BEGIN:VEVENT
DTSTART;VALUE=DATE:20240608
DTEND;VALUE=DATE:20240609
DTSTAMP:20260420T120859
CREATED:20240314T200707Z
LAST-MODIFIED:20240314T200707Z
UID:2829-1717804800-1717891199@healiostrategicsolutions.com
SUMMARY:Clinical Trials at the Summit
DESCRIPTION:Healio Strategic Solutions is attending this meeting! Let’s connect and explore how we can elevate your message to our engaged audience through the Healio platform. Send us your information below to connect with us onsite! \nHeading to the meeting? Let us know!
URL:https://healiostrategicsolutions.com/event/clinical-trials-at-the-summit/
LOCATION:Pendry Park City\, 2417 W High Mountain Rd\, Park City\, UT\, 84098\, United States
ATTACH;FMTTYPE=image/jpeg:https://healiostrategicsolutions.com/wp-content/uploads/2023/05/park-city.jpg
END:VEVENT
BEGIN:VEVENT
DTSTART;VALUE=DATE:20240619
DTEND;VALUE=DATE:20240623
DTSTAMP:20260420T120859
CREATED:20240314T201233Z
LAST-MODIFIED:20240314T201233Z
UID:2831-1718755200-1719100799@healiostrategicsolutions.com
SUMMARY:AOA Optometry's Meeting
DESCRIPTION:Healio Strategic Solutions is attending this meeting! Let’s connect and explore how we can elevate your message to our engaged audience through the Healio platform. Send us your information below to connect with us onsite! \nHeading to the meeting? Let us know!
URL:https://healiostrategicsolutions.com/event/aoa-optometrys-meeting-2/
LOCATION:Music City Center\, 201 Rep. John Lewis Way South\, Nashville\, TN\, 37203\, United States
ATTACH;FMTTYPE=image/jpeg:https://healiostrategicsolutions.com/wp-content/uploads/2023/06/Nashville.jpg
END:VEVENT
BEGIN:VEVENT
DTSTART;VALUE=DATE:20240620
DTEND;VALUE=DATE:20240625
DTSTAMP:20260420T120859
CREATED:20240314T201608Z
LAST-MODIFIED:20240314T201608Z
UID:2832-1718841600-1719273599@healiostrategicsolutions.com
SUMMARY:American Diabetes Association Scientific Sessions
DESCRIPTION:Healio Strategic Solutions is attending this meeting! Let’s connect and explore how we can elevate your message to our engaged audience through the Healio platform. Send us your information below to connect with us onsite! \nHeading to the meeting? Let us know!
URL:https://healiostrategicsolutions.com/event/american-diabetes-association-scientific-sessions/
LOCATION:Orange County Convention Center\, 9800 International Dr.\, Orlando\, FL\, 32819\, United States
ATTACH;FMTTYPE=image/jpeg:https://healiostrategicsolutions.com/wp-content/uploads/2023/10/Orlando.jpg
END:VEVENT
END:VCALENDAR