BEGIN:VCALENDAR
VERSION:2.0
PRODID:-//Healio Strategic Solutions - ECPv6.15.20//NONSGML v1.0//EN
CALSCALE:GREGORIAN
METHOD:PUBLISH
X-WR-CALNAME:Healio Strategic Solutions
X-ORIGINAL-URL:https://healiostrategicsolutions.com
X-WR-CALDESC:Events for Healio Strategic Solutions
REFRESH-INTERVAL;VALUE=DURATION:PT1H
X-Robots-Tag:noindex
X-PUBLISHED-TTL:PT1H
BEGIN:VTIMEZONE
TZID:UTC
BEGIN:STANDARD
TZOFFSETFROM:+0000
TZOFFSETTO:+0000
TZNAME:UTC
DTSTART:20250101T000000
END:STANDARD
END:VTIMEZONE
BEGIN:VEVENT
DTSTART;VALUE=DATE:20260429
DTEND;VALUE=DATE:20260501
DTSTAMP:20260422T202453
CREATED:20260421T181406Z
LAST-MODIFIED:20260421T181406Z
UID:3488-1777420800-1777593599@healiostrategicsolutions.com
SUMMARY:PHM HealthFront
DESCRIPTION:Healio Strategic Solutions is attending this meeting! Let’s connect and explore how we can elevate your message to our engaged audience through the Healio platform. Send us your information below to connect with us onsite! \nHeading to the meeting? Let us know!
URL:https://healiostrategicsolutions.com/event/phm-healthfront/
LOCATION:The Glasshouse\, 660 12th Ave.\, New York\, NY\, 10019\, United States
ATTACH;FMTTYPE=image/jpeg:https://healiostrategicsolutions.com/wp-content/uploads/2022/02/Manhattan_NY.jpeg
END:VEVENT
BEGIN:VEVENT
DTSTART;VALUE=DATE:20260430
DTEND;VALUE=DATE:20260504
DTSTAMP:20260422T202453
CREATED:20260316T155214Z
LAST-MODIFIED:20260316T155214Z
UID:3432-1777507200-1777852799@healiostrategicsolutions.com
SUMMARY:CCR East
DESCRIPTION:Healio Strategic Solutions is attending this meeting! Let’s connect and explore how we can elevate your message to our engaged audience through the Healio platform. Send us your information below to connect with us onsite! \nHeading to the meeting? Let us know!
URL:https://healiostrategicsolutions.com/event/ccr-east-2/
LOCATION:Hilton San Destin Beach Golf Resort & Spa\, 4000 S Sandestin Blvd\, Miramar Beach\, FL\, FL\, 32550\, United States
ATTACH;FMTTYPE=image/jpeg:https://healiostrategicsolutions.com/wp-content/uploads/2026/03/meetings_featured_miramar-beach.jpg
END:VEVENT
END:VCALENDAR