BEGIN:VCALENDAR
VERSION:2.0
PRODID:-//Healio Strategic Solutions - ECPv6.15.20//NONSGML v1.0//EN
CALSCALE:GREGORIAN
METHOD:PUBLISH
X-ORIGINAL-URL:https://healiostrategicsolutions.com
X-WR-CALDESC:Events for Healio Strategic Solutions
REFRESH-INTERVAL;VALUE=DURATION:PT1H
X-Robots-Tag:noindex
X-PUBLISHED-TTL:PT1H
BEGIN:VTIMEZONE
TZID:UTC
BEGIN:STANDARD
TZOFFSETFROM:+0000
TZOFFSETTO:+0000
TZNAME:UTC
DTSTART:20250101T000000
END:STANDARD
END:VTIMEZONE
BEGIN:VEVENT
DTSTART;VALUE=DATE:20260327
DTEND;VALUE=DATE:20260401
DTSTAMP:20260422T202540
CREATED:20251202T170245Z
LAST-MODIFIED:20251202T170245Z
UID:3355-1774569600-1775001599@healiostrategicsolutions.com
SUMMARY:AAD Annual Meeting
DESCRIPTION:Healio Strategic Solutions is attending this meeting! Let’s connect and explore how we can elevate your message to our engaged audience through the Healio platform. Send us your information below to connect with us onsite! \nHeading to the meeting? Let us know!
URL:https://healiostrategicsolutions.com/event/aad-annual-meeting-3/
LOCATION:Colorado Convention Center\, 700 14th St\, Denver\, CO\, 80202\, United States
ATTACH;FMTTYPE=image/jpeg:https://healiostrategicsolutions.com/wp-content/uploads/2025/12/meetings_featured_Denver.jpg
END:VEVENT
BEGIN:VEVENT
DTSTART;VALUE=DATE:20260328
DTEND;VALUE=DATE:20260331
DTSTAMP:20260422T202540
CREATED:20251202T171157Z
LAST-MODIFIED:20251202T171157Z
UID:3357-1774656000-1774915199@healiostrategicsolutions.com
SUMMARY:American College of Cardiology
DESCRIPTION:Healio Strategic Solutions is attending this meeting! Let’s connect and explore how we can elevate your message to our engaged audience through the Healio platform. Send us your information below to connect with us onsite! \nHeading to the meeting? Let us know!
URL:https://healiostrategicsolutions.com/event/american-college-of-cardiology-3/
LOCATION:Ernest N. Morial Convention Center\, 900 Convention Center Blvd.\, New Orleans\, LA\, 70130\, United States
ATTACH;FMTTYPE=image/jpeg:https://healiostrategicsolutions.com/wp-content/uploads/2022/12/New-Orleans-2.jpg
END:VEVENT
END:VCALENDAR