BEGIN:VCALENDAR
VERSION:2.0
PRODID:-//Healio Strategic Solutions - ECPv6.15.20//NONSGML v1.0//EN
CALSCALE:GREGORIAN
METHOD:PUBLISH
X-ORIGINAL-URL:https://healiostrategicsolutions.com
X-WR-CALDESC:Events for Healio Strategic Solutions
REFRESH-INTERVAL;VALUE=DURATION:PT1H
X-Robots-Tag:noindex
X-PUBLISHED-TTL:PT1H
BEGIN:VTIMEZONE
TZID:UTC
BEGIN:STANDARD
TZOFFSETFROM:+0000
TZOFFSETTO:+0000
TZNAME:UTC
DTSTART:20240101T000000
END:STANDARD
END:VTIMEZONE
BEGIN:VEVENT
DTSTART;VALUE=DATE:20250622
DTEND;VALUE=DATE:20250626
DTSTAMP:20260423T142434
CREATED:20250508T174048Z
LAST-MODIFIED:20250508T174048Z
UID:3151-1750550400-1750895999@healiostrategicsolutions.com
SUMMARY:HFMA Annual Conference
DESCRIPTION:Healio Strategic Solutions is attending this meeting! Let’s connect and explore how we can elevate your message to our engaged audience through the Healio platform. Send us your information below to connect with us onsite! \nHeading to the meeting? Let us know!
URL:https://healiostrategicsolutions.com/event/hfma-annual-conference/
LOCATION:Colorado Convention Center\, 700 14th St\, Denver\, CO\, 80202\, United States
ATTACH;FMTTYPE=image/jpeg:https://healiostrategicsolutions.com/wp-content/uploads/2022/06/AdobeStock_320873487_Denver-scaled.jpeg
END:VEVENT
BEGIN:VEVENT
DTSTART;VALUE=DATE:20250625
DTEND;VALUE=DATE:20250629
DTSTAMP:20260423T142434
CREATED:20250618T190045Z
LAST-MODIFIED:20250618T190045Z
UID:3175-1750809600-1751155199@healiostrategicsolutions.com
SUMMARY:Optometry's Meeting® | 5th World Congress of Optometry
DESCRIPTION:Healio Strategic Solutions is attending this meeting! Let’s connect and explore how we can elevate your message to our engaged audience through the Healio platform. Send us your information below to connect with us onsite! \nHeading to the meeting? Let us know!
URL:https://healiostrategicsolutions.com/event/optometrys-meeting-5th-world-congress-of-optometry/
LOCATION:Minneapolis Convention Center\, 1301 Second Ave S\, Minneapolis\, Minneapolis\, MN\, 55403\, United States
ATTACH;FMTTYPE=image/jpeg:https://healiostrategicsolutions.com/wp-content/uploads/2025/06/Minneapolis_175831494.jpg
END:VEVENT
END:VCALENDAR