BEGIN:VCALENDAR
VERSION:2.0
PRODID:-//Healio Strategic Solutions - ECPv6.15.20//NONSGML v1.0//EN
CALSCALE:GREGORIAN
METHOD:PUBLISH
X-WR-CALNAME:Healio Strategic Solutions
X-ORIGINAL-URL:https://healiostrategicsolutions.com
X-WR-CALDESC:Events for Healio Strategic Solutions
REFRESH-INTERVAL;VALUE=DURATION:PT1H
X-Robots-Tag:noindex
X-PUBLISHED-TTL:PT1H
BEGIN:VTIMEZONE
TZID:UTC
BEGIN:STANDARD
TZOFFSETFROM:+0000
TZOFFSETTO:+0000
TZNAME:UTC
DTSTART:20240101T000000
END:STANDARD
END:VTIMEZONE
BEGIN:VEVENT
DTSTART;VALUE=DATE:20250620
DTEND;VALUE=DATE:20250622
DTSTAMP:20260421T102828
CREATED:20250422T151353Z
LAST-MODIFIED:20250422T151353Z
UID:3130-1750377600-1750550399@healiostrategicsolutions.com
SUMMARY:Clinical Trials at the Summit
DESCRIPTION:Healio Strategic Solutions is attending this meeting! Let’s connect and explore how we can elevate your message to our engaged audience through the Healio platform. Send us your information below to connect with us onsite! \nHeading to the meeting? Let us know!
URL:https://healiostrategicsolutions.com/event/clinical-trials-at-the-summit-2/
LOCATION:Fontainebleau Las Vegas\, 2777 S Las Vegas Blvd\, Las Vegas\, NV\, 89109\, United States
ATTACH;FMTTYPE=image/jpeg:https://healiostrategicsolutions.com/wp-content/uploads/2022/12/las-vegas.jpg
END:VEVENT
END:VCALENDAR