BEGIN:VCALENDAR
VERSION:2.0
PRODID:-//Healio Strategic Solutions - ECPv6.15.20//NONSGML v1.0//EN
CALSCALE:GREGORIAN
METHOD:PUBLISH
X-ORIGINAL-URL:https://healiostrategicsolutions.com
X-WR-CALDESC:Events for Healio Strategic Solutions
REFRESH-INTERVAL;VALUE=DURATION:PT1H
X-Robots-Tag:noindex
X-PUBLISHED-TTL:PT1H
BEGIN:VTIMEZONE
TZID:UTC
BEGIN:STANDARD
TZOFFSETFROM:+0000
TZOFFSETTO:+0000
TZNAME:UTC
DTSTART:20240101T000000
END:STANDARD
END:VTIMEZONE
BEGIN:VEVENT
DTSTART;VALUE=DATE:20250508
DTEND;VALUE=DATE:20250511
DTSTAMP:20260421T153709
CREATED:20250505T192649Z
LAST-MODIFIED:20250505T192649Z
UID:3143-1746662400-1746921599@healiostrategicsolutions.com
SUMMARY:Arthroscopy Association of North America Annual Meeting
DESCRIPTION:Healio Strategic Solutions is attending this meeting! Let’s connect and explore how we can elevate your message to our engaged audience through the Healio platform. Send us your information below to connect with us onsite! \nHeading to the meeting? Let us know!
URL:https://healiostrategicsolutions.com/event/arthroscopy-association-of-north-america-annual-meeting/
LOCATION:Washington Hilton\, 1919 Connecticut Ave.\, NW\, Washington\, DC\, 20009\, United States
ATTACH;FMTTYPE=image/jpeg:https://healiostrategicsolutions.com/wp-content/uploads/2023/08/washington-dc.jpg
END:VEVENT
BEGIN:VEVENT
DTSTART;VALUE=DATE:20250508
DTEND;VALUE=DATE:20250512
DTSTAMP:20260421T153709
CREATED:20241217T203050Z
LAST-MODIFIED:20241217T203050Z
UID:3061-1746662400-1747007999@healiostrategicsolutions.com
SUMMARY:Retina World Congress
DESCRIPTION:Healio Strategic Solutions is attending this meeting! Let’s connect and explore how we can elevate your message to our engaged audience through the Healio platform. Send us your information below to connect with us onsite! \nHeading to the meeting? Let us know!
URL:https://healiostrategicsolutions.com/event/retina-world-congress-2/
LOCATION:Fort Lauderdale Marriott Harbor Beach Resort & Spa\, 3030 Holiday Dr.\, Fort Lauderdale\, FL\, 33316
ATTACH;FMTTYPE=image/jpeg:https://healiostrategicsolutions.com/wp-content/uploads/2022/02/Fort-Lauderdale.jpg
ORGANIZER;CN="Healio%C2%AE LIVE":MAILTO:rsimon@HealioLIVE.com
END:VEVENT
END:VCALENDAR